BEGIN:VCALENDAR
VERSION:2.0
PRODID:icalendar-ruby
CALSCALE:GREGORIAN
BEGIN:VEVENT
DTSTAMP:20260420T104932Z
UID:1dfa3785-59cb-4609-a188-c721025067ba
DTSTART;TZID=Pacific/Auckland:20260426T110000
DTEND;TZID=Pacific/Auckland:20260426T113000
DESCRIPTION:Property ID# 606550
SUMMARY:Openhome for 97B Gloucester Road
END:VEVENT
END:VCALENDAR
