BEGIN:VCALENDAR
VERSION:2.0
PRODID:icalendar-ruby
CALSCALE:GREGORIAN
BEGIN:VEVENT
DTSTAMP:20260422T105915Z
UID:3be1b818-020e-413a-ad24-85b257593b36
DTSTART;TZID=Pacific/Auckland:20260426T121500
DTEND;TZID=Pacific/Auckland:20260426T124500
DESCRIPTION:Property ID# 604987
SUMMARY:Openhome for 10 Winspear Place
END:VEVENT
END:VCALENDAR
