BEGIN:VCALENDAR
VERSION:2.0
PRODID:icalendar-ruby
CALSCALE:GREGORIAN
BEGIN:VEVENT
DTSTAMP:20260420T002816Z
UID:7d19a7d5-3db8-481f-85d8-b4be844cfced
DTSTART;TZID=Pacific/Auckland:20260419T130000
DTEND;TZID=Pacific/Auckland:20260419T133000
DESCRIPTION:Property ID# 603961
SUMMARY:Openhome for 64c Fifth Avenue
END:VEVENT
END:VCALENDAR
