BEGIN:VCALENDAR
VERSION:2.0
PRODID:icalendar-ruby
CALSCALE:GREGORIAN
BEGIN:VEVENT
DTSTAMP:20260420T104516Z
UID:5914e370-b97d-433e-a43b-118b3f41ff22
DTSTART;VALUE=DATE:20260514
DESCRIPTION:Property ID# 606570\, Locatoin: Auction Rooms\, 247 Cameron Roa
 d\, Tauranga. Unless sold prior\, Time: 1:00PM
SUMMARY:Auction for 117 Manuwai Drive
END:VEVENT
END:VCALENDAR
