BEGIN:VCALENDAR
VERSION:2.0
PRODID:icalendar-ruby
CALSCALE:GREGORIAN
BEGIN:VEVENT
DTSTAMP:20260420T105147Z
UID:4d611b03-6f07-46fa-a460-c56ebd0c82cc
DTSTART;VALUE=DATE:20260429
DESCRIPTION:Property ID# 606550\, Time: 1:00PM
SUMMARY:Auction for 97B Gloucester Road
END:VEVENT
END:VCALENDAR
