BEGIN:VCALENDAR
VERSION:2.0
PRODID:icalendar-ruby
CALSCALE:GREGORIAN
BEGIN:VEVENT
DTSTAMP:20260419T122305Z
UID:82c48fdd-458a-4227-869f-38a30c9cb742
DTSTART;VALUE=DATE:20260402
DESCRIPTION:Property ID# 605641\, Locatoin: Harcourts Auction Room\, 1 Thir
 d Avenue\, Tauranga\, Time: 1:00PM
SUMMARY:Auction for 
END:VEVENT
END:VCALENDAR
