BEGIN:VCALENDAR
VERSION:2.0
PRODID:icalendar-ruby
CALSCALE:GREGORIAN
BEGIN:VEVENT
DTSTAMP:20260421T121106Z
UID:02ea43ec-29c5-4d82-8435-9c2909eb0e90
DTSTART;VALUE=DATE:20260224
DESCRIPTION:Property ID# 603050\, Time: 4:00PM
SUMMARY:Auction for 86 Pakanga Grove
END:VEVENT
END:VCALENDAR
