BEGIN:VCALENDAR
VERSION:2.0
PRODID:icalendar-ruby
CALSCALE:GREGORIAN
BEGIN:VEVENT
DTSTAMP:20260420T094414Z
UID:74731835-5f0c-43d0-94e3-56abef535133
DTSTART;VALUE=DATE:20251204
DESCRIPTION:Property ID# 600220\, Locatoin: 19 Boulder Lane\, Pyes Pa\, Tau
 ranga\, Time: 4:00PM
SUMMARY:Auction for 37 Glenn Terrace
END:VEVENT
END:VCALENDAR
