BEGIN:VCALENDAR
VERSION:2.0
PRODID:icalendar-ruby
CALSCALE:GREGORIAN
BEGIN:VEVENT
DTSTAMP:20260420T122703Z
UID:b8565b88-6018-4cd7-8247-e86e4b5550ef
DTSTART;VALUE=DATE:20251119
DESCRIPTION:Property ID# 599583\, Time: 1:00PM
SUMMARY:Auction for 
END:VEVENT
END:VCALENDAR
