BEGIN:VCALENDAR
VERSION:2.0
PRODID:icalendar-ruby
CALSCALE:GREGORIAN
BEGIN:VEVENT
DTSTAMP:20260420T105110Z
UID:d7a6ac96-9a6b-4071-8a2b-b106ed71a46d
DTSTART;VALUE=DATE:20250806
DESCRIPTION:Property ID# 594854\, Locatoin: Harcourts Auction Rooms\, 1 Thi
 rd Avenue\, Tauranga\,  (unless sold prior)\, Time: 12:00PM
SUMMARY:Auction for 
END:VEVENT
END:VCALENDAR
