BEGIN:VCALENDAR
VERSION:2.0
PRODID:icalendar-ruby
CALSCALE:GREGORIAN
BEGIN:VEVENT
DTSTAMP:20260422T114118Z
UID:9e5e9fa3-fe32-4b88-903a-8294089847f9
DTSTART;VALUE=DATE:20250730
DESCRIPTION:Property ID# 594690\, Locatoin: Harcourts Auction Rooms\, 1 Thi
 rd Avenue\, Tauranga (Unless Sold Prior)\, Time: 11:30AM
SUMMARY:Auction for 
END:VEVENT
END:VCALENDAR
