BEGIN:VCALENDAR
VERSION:2.0
PRODID:icalendar-ruby
CALSCALE:GREGORIAN
BEGIN:VEVENT
DTSTAMP:20260419T130613Z
UID:1e36f26f-58f3-4ac6-95f6-32fc03dd90f6
DTSTART;VALUE=DATE:20250625
DESCRIPTION:Property ID# 593589\, Locatoin: Harcourts Auction Room\, 1 Thir
 d Avenue\, Tauranga\, Time: 12:00PM
SUMMARY:Auction for 
END:VEVENT
END:VCALENDAR
