BEGIN:VCALENDAR
VERSION:2.0
PRODID:icalendar-ruby
CALSCALE:GREGORIAN
BEGIN:VEVENT
DTSTAMP:20260420T092805Z
UID:7ec596e3-1d9f-442e-b229-582124ba0444
DTSTART;VALUE=DATE:20250528
DESCRIPTION:Property ID# 592454\, Locatoin: Harcourts Auction Room\, 1 Thir
 d Avenue\, Tauranga\, Time: 11:30AM
SUMMARY:Auction for 
END:VEVENT
END:VCALENDAR
