BEGIN:VCALENDAR
VERSION:2.0
PRODID:icalendar-ruby
CALSCALE:GREGORIAN
BEGIN:VEVENT
DTSTAMP:20260421T121619Z
UID:bfc08e7b-81a0-4b97-8c67-c5cca80db770
DTSTART;VALUE=DATE:20240605
DESCRIPTION:Property ID# 576075\, Locatoin: Harcourts Auction Rooms\, 1 Thi
 rd Avenue\, Tauranga  (Unless Sold Prior)\, Time: 12:30PM
SUMMARY:Auction for 
END:VEVENT
END:VCALENDAR
