BEGIN:VCALENDAR
VERSION:2.0
PRODID:icalendar-ruby
CALSCALE:GREGORIAN
BEGIN:VEVENT
DTSTAMP:20260424T084602Z
UID:de1bfe6a-e1b5-40c6-b6fc-3559fb30e93b
DTSTART;VALUE=DATE:20240516
DESCRIPTION:Property ID# 574970\, Time: 11:00AM
SUMMARY:Auction for 
END:VEVENT
END:VCALENDAR
