BEGIN:VCALENDAR
VERSION:2.0
PRODID:icalendar-ruby
CALSCALE:GREGORIAN
BEGIN:VEVENT
DTSTAMP:20260420T135606Z
UID:99f092ac-8ef6-46f8-91a1-46afe95fd5ca
DTSTART;VALUE=DATE:20240418
DESCRIPTION:Property ID# 572759\, Locatoin: 247 Cameron Road\, Time: 12:00P
 M
SUMMARY:Auction for 
END:VEVENT
END:VCALENDAR
