BEGIN:VCALENDAR
VERSION:2.0
PRODID:icalendar-ruby
CALSCALE:GREGORIAN
BEGIN:VEVENT
DTSTAMP:20260420T140709Z
UID:3d01aa5d-fcde-449d-8f72-ac080b02d7f1
DTSTART;VALUE=DATE:20240229
DESCRIPTION:Property ID# 569670\, Locatoin: Auction Rooms\, 247 Cameron Roa
 d\, Tauranga. Unless sold prior\, Time: 1:00PM
SUMMARY:Auction for 
END:VEVENT
END:VCALENDAR
