BEGIN:VCALENDAR
VERSION:2.0
PRODID:icalendar-ruby
CALSCALE:GREGORIAN
BEGIN:VEVENT
DTSTAMP:20260421T202427Z
UID:46fd9d00-d005-44bd-a8f4-6a3ee8d5c5b3
DTSTART;VALUE=DATE:20230928
DESCRIPTION:Property ID# 562207\, Locatoin: 1 Third Avenue\, Tauranga\, Tim
 e: 11:00AM
SUMMARY:Auction for 
END:VEVENT
END:VCALENDAR
