BEGIN:VCALENDAR
VERSION:2.0
PRODID:icalendar-ruby
CALSCALE:GREGORIAN
BEGIN:VEVENT
DTSTAMP:20260421T202120Z
UID:53182169-8961-42ea-a11c-ddbd617f0f2c
DTSTART;VALUE=DATE:20230426
DESCRIPTION:Property ID# 555411\, Locatoin: Ray White Auction Rooms\, 1/9 D
 omain Road\, Papamoa (unless sold prior)\, Time: 1:00PM
SUMMARY:Auction for 
END:VEVENT
END:VCALENDAR
