BEGIN:VCALENDAR
VERSION:2.0
PRODID:icalendar-ruby
CALSCALE:GREGORIAN
BEGIN:VEVENT
DTSTAMP:20260421T103010Z
UID:d8435187-8606-4335-a99c-c7bc86480744
DTSTART;VALUE=DATE:20220323
DESCRIPTION:Property ID# 530447\, Locatoin: Ray White Auction Rooms\, 1/9 D
 omain Road\, Papamoa (unless sold prior)\, Time: 1:00PM
SUMMARY:Auction for 
END:VEVENT
END:VCALENDAR
