BEGIN:VCALENDAR
VERSION:2.0
PRODID:icalendar-ruby
CALSCALE:GREGORIAN
BEGIN:VEVENT
DTSTAMP:20260420T094403Z
UID:1bf518d7-b5e1-4742-83c4-ff195b5411d0
DTSTART;VALUE=DATE:20220203
DESCRIPTION:Property ID# 526417\, Time: 1:00PM
SUMMARY:Auction for 
END:VEVENT
END:VCALENDAR
