BEGIN:VCALENDAR
VERSION:2.0
PRODID:icalendar-ruby
CALSCALE:GREGORIAN
BEGIN:VEVENT
DTSTAMP:20260422T104930Z
UID:06786a77-be27-4ef3-94d3-ad9c3c030c9a
DTSTART;VALUE=DATE:20211104
DESCRIPTION:Property ID# 520256\, Locatoin: In rooms\, Time: 3:30PM
SUMMARY:Auction for 
END:VEVENT
END:VCALENDAR
