BEGIN:VCALENDAR
VERSION:2.0
PRODID:icalendar-ruby
CALSCALE:GREGORIAN
BEGIN:VEVENT
DTSTAMP:20260419T122705Z
UID:b8fb520f-6bfa-4520-a4f1-08c18b35dbc9
DTSTART;VALUE=DATE:20211027
DESCRIPTION:Property ID# 518761\, Locatoin: Ray White Auction Rooms\, 1/9 D
 omain Road\, Papamoa (unless sold prior)\, Time: 1:00PM
SUMMARY:Auction for 
END:VEVENT
END:VCALENDAR
