BEGIN:VCALENDAR
VERSION:2.0
PRODID:icalendar-ruby
CALSCALE:GREGORIAN
BEGIN:VEVENT
DTSTAMP:20260420T092902Z
UID:e96b2e71-cbeb-495c-afc5-401f16cf9186
DTSTART;VALUE=DATE:20211014
DESCRIPTION:Property ID# 517399\, Locatoin: In rooms\, Time: 1:00PM
SUMMARY:Auction for 
END:VEVENT
END:VCALENDAR
