BEGIN:VCALENDAR
VERSION:2.0
PRODID:icalendar-ruby
CALSCALE:GREGORIAN
BEGIN:VEVENT
DTSTAMP:20260425T110143Z
UID:baeb7d8c-b2ca-415c-b75f-4f4d78c7b3c4
DTSTART;VALUE=DATE:20210712
DESCRIPTION:Property ID# 513384\, Locatoin: Ray White Auction Rooms\, 9 Dom
 ain Road\, Papamoa (unless sold prior)\, Time: 1:00PM
SUMMARY:Auction for 
END:VEVENT
END:VCALENDAR
