BEGIN:VCALENDAR
VERSION:2.0
PRODID:icalendar-ruby
CALSCALE:GREGORIAN
BEGIN:VEVENT
DTSTAMP:20260421T202422Z
UID:138e8329-2b5d-4e5e-8d3b-87a6fd66fa70
DTSTART;VALUE=DATE:20210714
DESCRIPTION:Property ID# 512874\, Locatoin: Ray White Auction Rooms\, 5/9 D
 omain Road\, Papamoa (unless sold prior)\, Time: 1:00PM
SUMMARY:Auction for 
END:VEVENT
END:VCALENDAR
