BEGIN:VCALENDAR
VERSION:2.0
PRODID:icalendar-ruby
CALSCALE:GREGORIAN
BEGIN:VEVENT
DTSTAMP:20260422T104500Z
UID:a0ec75a5-e887-418b-90f5-2a73e196b112
DTSTART;VALUE=DATE:20210701
DESCRIPTION:Property ID# 511111\, Locatoin: In rooms\, Time: 2:00PM
SUMMARY:Auction for 
END:VEVENT
END:VCALENDAR
