BEGIN:VCALENDAR
VERSION:2.0
PRODID:icalendar-ruby
CALSCALE:GREGORIAN
BEGIN:VEVENT
DTSTAMP:20260424T101339Z
UID:cf7dc031-d4fd-42da-87a3-f66da4a9ad12
DTSTART;VALUE=DATE:20210610
DESCRIPTION:Property ID# 510139\, Locatoin: Auction Rooms\, 247 Cameron Roa
 d\, Tauranga. Unless sold prior\, Time: 1:00PM
SUMMARY:Auction for 
END:VEVENT
END:VCALENDAR
