BEGIN:VCALENDAR
VERSION:2.0
PRODID:icalendar-ruby
CALSCALE:GREGORIAN
BEGIN:VEVENT
DTSTAMP:20260421T103309Z
UID:afe4b5b7-fa26-49d0-a9a5-0542d50ac52f
DTSTART;VALUE=DATE:20210408
DESCRIPTION:Property ID# 504273\, Locatoin: Harcourts Auction Rooms\, 1 Thi
 rd Avenue\, Tauranga\, Unless Sold Prior\, Time: 1:00PM
SUMMARY:Auction for 
END:VEVENT
END:VCALENDAR
