BEGIN:VCALENDAR
VERSION:2.0
PRODID:icalendar-ruby
CALSCALE:GREGORIAN
BEGIN:VEVENT
DTSTAMP:20260421T201937Z
UID:4a75cbe4-b219-4dc3-95c1-f92a3a0b1abb
DTSTART;VALUE=DATE:20210210
DESCRIPTION:Property ID# 500007\, Locatoin: Ray White Auction Rooms\, 5/9 D
 omain Road\, Papamoa (unless sold prior)\, Time: 1:00PM
SUMMARY:Auction for 
END:VEVENT
END:VCALENDAR
