BEGIN:VCALENDAR
VERSION:2.0
PRODID:icalendar-ruby
CALSCALE:GREGORIAN
BEGIN:VEVENT
DTSTAMP:20260421T170026Z
UID:9a5ae961-35ba-42ab-ba9c-cf148cb9406d
DTSTART;VALUE=DATE:20201008
DESCRIPTION:Property ID# 490107\, Locatoin: 232 Devopnport Road Tauranga Un
 less Sold Prior\, Time: 11:00AM
SUMMARY:Auction for 
END:VEVENT
END:VCALENDAR
